BEGIN:VCALENDAR
VERSION:2.0
PRODID:-//Imkerverein Au bei Aibling - ECPv6.15.20//NONSGML v1.0//EN
CALSCALE:GREGORIAN
METHOD:PUBLISH
X-ORIGINAL-URL:https://www.imkerverein-au.de
X-WR-CALDESC:Veranstaltungen für Imkerverein Au bei Aibling
REFRESH-INTERVAL;VALUE=DURATION:PT1H
X-Robots-Tag:noindex
X-PUBLISHED-TTL:PT1H
BEGIN:VTIMEZONE
TZID:Europe/Berlin
BEGIN:DAYLIGHT
TZOFFSETFROM:+0100
TZOFFSETTO:+0200
TZNAME:CEST
DTSTART:20240331T010000
END:DAYLIGHT
BEGIN:STANDARD
TZOFFSETFROM:+0200
TZOFFSETTO:+0100
TZNAME:CET
DTSTART:20241027T010000
END:STANDARD
BEGIN:DAYLIGHT
TZOFFSETFROM:+0100
TZOFFSETTO:+0200
TZNAME:CEST
DTSTART:20250330T010000
END:DAYLIGHT
BEGIN:STANDARD
TZOFFSETFROM:+0200
TZOFFSETTO:+0100
TZNAME:CET
DTSTART:20251026T010000
END:STANDARD
BEGIN:DAYLIGHT
TZOFFSETFROM:+0100
TZOFFSETTO:+0200
TZNAME:CEST
DTSTART:20260329T010000
END:DAYLIGHT
BEGIN:STANDARD
TZOFFSETFROM:+0200
TZOFFSETTO:+0100
TZNAME:CET
DTSTART:20261025T010000
END:STANDARD
END:VTIMEZONE
BEGIN:VEVENT
DTSTART;VALUE=DATE:20251121
DTEND;VALUE=DATE:20251122
DTSTAMP:20260424T134531
CREATED:20250103T121218Z
LAST-MODIFIED:20250103T121218Z
UID:3440-1763683200-1763769599@www.imkerverein-au.de
SUMMARY:Kreisversammlung VBB Rosenheim/Inntal
DESCRIPTION:Kreisversammlung VBB Rosenheim/Inntal
URL:https://www.imkerverein-au.de/event/kreisversammlung-vbb-rosenheim-inntal/
END:VEVENT
BEGIN:VEVENT
DTSTART;TZID=Europe/Berlin:20251130T180000
DTEND;TZID=Europe/Berlin:20251130T180000
DTSTAMP:20260424T134531
CREATED:20250103T121318Z
LAST-MODIFIED:20250103T121318Z
UID:3442-1764525600-1764525600@www.imkerverein-au.de
SUMMARY:Weihnachtsfeier BZV Au
DESCRIPTION:Weihnachtsfeier Bienenzuchtverein Au bei Aibling e. V.
URL:https://www.imkerverein-au.de/event/weihnachtsfeier-bzv-au/
END:VEVENT
END:VCALENDAR