BEGIN:VCALENDAR
VERSION:2.0
PRODID:-//Imkerverein Au bei Aibling - ECPv6.15.20//NONSGML v1.0//EN
CALSCALE:GREGORIAN
METHOD:PUBLISH
X-ORIGINAL-URL:https://www.imkerverein-au.de
X-WR-CALDESC:Veranstaltungen für Imkerverein Au bei Aibling
REFRESH-INTERVAL;VALUE=DURATION:PT1H
X-Robots-Tag:noindex
X-PUBLISHED-TTL:PT1H
BEGIN:VTIMEZONE
TZID:Europe/Berlin
BEGIN:DAYLIGHT
TZOFFSETFROM:+0100
TZOFFSETTO:+0200
TZNAME:CEST
DTSTART:20240331T010000
END:DAYLIGHT
BEGIN:STANDARD
TZOFFSETFROM:+0200
TZOFFSETTO:+0100
TZNAME:CET
DTSTART:20241027T010000
END:STANDARD
BEGIN:DAYLIGHT
TZOFFSETFROM:+0100
TZOFFSETTO:+0200
TZNAME:CEST
DTSTART:20250330T010000
END:DAYLIGHT
BEGIN:STANDARD
TZOFFSETFROM:+0200
TZOFFSETTO:+0100
TZNAME:CET
DTSTART:20251026T010000
END:STANDARD
BEGIN:DAYLIGHT
TZOFFSETFROM:+0100
TZOFFSETTO:+0200
TZNAME:CEST
DTSTART:20260329T010000
END:DAYLIGHT
BEGIN:STANDARD
TZOFFSETFROM:+0200
TZOFFSETTO:+0100
TZNAME:CET
DTSTART:20261025T010000
END:STANDARD
END:VTIMEZONE
BEGIN:VEVENT
DTSTART;TZID=Europe/Berlin:20251008T073000
DTEND;TZID=Europe/Berlin:20251008T073000
DTSTAMP:20260424T162746
CREATED:20250103T121123Z
LAST-MODIFIED:20250103T121123Z
UID:3438-1759908600-1759908600@www.imkerverein-au.de
SUMMARY:Fahrt zum Bayrischen Landtag
DESCRIPTION:Fahrt zum Bayrischen Landtag\, Abfahrt Ortshaus Tattenhausen\, Hauptstr. 7\, Anmeldung bei Sollinger
URL:https://www.imkerverein-au.de/event/fahrt-zum-bayrischen-landtag/
END:VEVENT
END:VCALENDAR